BEGIN:VCALENDAR
PRODID:\"-//Events Calendar//iCal4j 1.0//EN
VERSION:2.0
CALSCALE:GREGORIAN
BEGIN:VEVENT
DTSTAMP:20260423T120557Z
DTSTART:20260425T100000
DTEND:20260425T170000
SUMMARY:Kreativbox mit Betreuung
DESCRIPTION:\n\nIn der Kreativbox\, dem integrierten Mitmachatelier in de
 r Ausstellung «Die Eule ist pink»\, können Besucher*innen das Thema Farb
 en spielerisch erfassen. Die Kreativbox ist durchgehend während der Öffn
 ungszeiten geöffnet\, an Samstagen ist sie von eine*r Mitarbeiter*in des
  Museums betreut. \n\nEintritt gemäss Tarifstruktur
UID:20260423T120557Z-uidGen@apps56.mironet.ch
END:VEVENT
END:VCALENDAR
