BEGIN:VCALENDAR
PRODID:\"-//Events Calendar//iCal4j 1.0//EN
VERSION:2.0
CALSCALE:GREGORIAN
BEGIN:VEVENT
DTSTAMP:20260419T153947Z
DTSTART:20260628T140000
DTEND:20260628T150000
SUMMARY:Alles lebt
DESCRIPTION:\n\nWie lässt sich die Erde aus ihrer Krise holen? Indem wir 
 alle Wesen und die Natur als gleichberechtigt betrachten. An der Führung
  durch die Ausstellung «Alles lebt» zeigen wir anhand lokaler Beispiele 
 neue\, alternative Wege auf\, die zu einer gesicherten Zukunft führen kö
 nnen. \n\nMit Ladina Huber \n\nIm Museumseintritt inbegriffen
UID:20260419T153947Z-uidGen@apps56.mironet.ch
END:VEVENT
END:VCALENDAR
