BEGIN:VCALENDAR
PRODID:\"-//Events Calendar//iCal4j 1.0//EN
VERSION:2.0
CALSCALE:GREGORIAN
BEGIN:VEVENT
DTSTAMP:20260422T201345Z
DTSTART:20210829T110000
DTEND:20210829T120000
SUMMARY:Berlin 1920
DESCRIPTION:\n\nIm Museumshof erwartet Sie Hörgenuss pur mit dem Sinfonie
 orchester Basel. \n\nMit einer elektrisierenden Mischung von Jazz\, Klas
 sik und weltlicher Musik brach der Musikstil der 1920er Jahre mit besteh
 enden Traditionen. Daniel Schnyders Berlin 1920 Suite spürt nach\, wie s
 ich das Aufeinandertreffen unterschiedlicher Stilrichtungen Europas und 
 der restlichen Welt im damaligen Berlin anhörte. Der Saxofonist und Komp
 onist Schnyder tritt selbst mit Mitgliedern des Sinfonieorchesters Basel
  auf. \n\nDie Anzahl der Plätze ist auf 300 begrenzt (s. Schutzkonzept).
  Anmeldungen nehmen wir gerne unter T +41 61 266 56 00 oder info@mkb.ch 
 entgegen. \n\nDas Konzert findet nur bei schönem Wetter statt. Infos zur
  Durchführung finden Sie auf www.sinfonieorchesterbasel.ch. \n\nFreier E
 intritt ins Konzert\, Kollekte \n\n
UID:20260422T201345Z-uidGen@apps56.mironet.ch
END:VEVENT
END:VCALENDAR
