BEGIN:VCALENDAR
PRODID:\"-//Events Calendar//iCal4j 1.0//EN
VERSION:2.0
CALSCALE:GREGORIAN
BEGIN:VEVENT
DTSTAMP:20260422T201340Z
DTSTART:20210826T183000
DTEND:20210826T203000
SUMMARY:tierisch!
DESCRIPTION:\n\nStubentiger\, Glücksbringer\, Trophäen\, Arbeitstiere\, N
 ahrungslieferanten: Tiere haben unterschiedlichste Rollen\, sind aber Te
 il jeder Kultur. Kommen und staunen Sie! \n\nWir laden Sie herzlich ein 
 zu Ausstellungseröffnung. \n\nEs sprechen: Anna Schmid\, Direktorin Tanj
 a Soland\, Regierungsrätin Basel-Stadt Beatrice Voirol\, Kuratorin der A
 usstellung. \n\nAnschliessend freie Besichtigung aller Ausstellungen im 
 Hauptgebäude. Ansprachen und Apéro finden im Museumshof statt. \n\nIn de
 n Räumen des Museums besteht Maskenpflicht (ab 12 Jahre). Bitte beachten
  Sie das Covid-19-Schutzkonzept für Vernissagen (pdf). \n\nAnmeldungen n
 ehmen wir unter T +41 61 266 56 00 oder info@mkb.ch entgegen.
UID:20260422T201340Z-uidGen@apps56.mironet.ch
END:VEVENT
END:VCALENDAR
