BEGIN:VCALENDAR
PRODID:\"-//Events Calendar//iCal4j 1.0//EN
VERSION:2.0
CALSCALE:GREGORIAN
BEGIN:VEVENT
DTSTAMP:20260422T201226Z
DTSTART:20210822T110000
DTEND:20210822T120000
SUMMARY:Extractive Zones
DESCRIPTION:\n\nDie Führung geht künstlerischen Auseinandersetzungen mit 
 alternativen Mensch-Umwelt-Beziehungen nach. \n\nMit Kurator Alexander B
 rust \n\nAnmeldungen nehmen wir gerne unter T +41 61 266 56 00 oder info
 @mkb.ch entgegen.
UID:20260422T201226Z-uidGen@apps56.mironet.ch
END:VEVENT
END:VCALENDAR
